BEGIN:VCALENDAR
METHOD:PUBLISH
VERSION:2.0
PRODID:-//Eventilla iCal Syndication//NONSGML Liana//EN
BEGIN:VEVENT
UID:x25GE@eventilla.com
DTSTAMP:20210916T130000Z
DTSTART:20210916T130000Z
DTEND:20210916T171500Z
SUMMARY:Endokriininen koulutus OYS 16.9.2021
DESCRIPTION:Tervetuloa endokriinisen koulutuksen! Puheenjohtajana toimii dosentti Tapani Ebeling.\nKoulutus järjestetään hybridimuotoisena\, joten voit valita osallistutko paikan päällä Lasaretissa vai etänä. Lähikoulutuksessa noudatamme viranomaisten ohjeita Covid-tilanteeseen liittyen. Seuraamme suosituksia ja rajoituksia ja olemme yhteydessä mikäli järjestelyihin tulee muutoksia.
LOCATION:Hotelli Lasaretti (Aurora-Sali)\, Kasarmintie 13 B\, 90130\, Oulu
URL:http://tapahtuma.novonordisk.com/oys_16092021
END:VEVENT
END:VCALENDAR
